BEGIN:VCALENDAR
VERSION:2.0
PRODID:-//Manhattan Christian College - ECPv6.15.17.1//NONSGML v1.0//EN
CALSCALE:GREGORIAN
METHOD:PUBLISH
X-WR-CALNAME:Manhattan Christian College
X-ORIGINAL-URL:https://mccks.edu
X-WR-CALDESC:Events for Manhattan Christian College
REFRESH-INTERVAL;VALUE=DURATION:PT1H
X-Robots-Tag:noindex
X-PUBLISHED-TTL:PT1H
BEGIN:VTIMEZONE
TZID:America/Chicago
BEGIN:DAYLIGHT
TZOFFSETFROM:-0600
TZOFFSETTO:-0500
TZNAME:CDT
DTSTART:20240310T080000
END:DAYLIGHT
BEGIN:STANDARD
TZOFFSETFROM:-0500
TZOFFSETTO:-0600
TZNAME:CST
DTSTART:20241103T070000
END:STANDARD
BEGIN:DAYLIGHT
TZOFFSETFROM:-0600
TZOFFSETTO:-0500
TZNAME:CDT
DTSTART:20250309T080000
END:DAYLIGHT
BEGIN:STANDARD
TZOFFSETFROM:-0500
TZOFFSETTO:-0600
TZNAME:CST
DTSTART:20251102T070000
END:STANDARD
BEGIN:DAYLIGHT
TZOFFSETFROM:-0600
TZOFFSETTO:-0500
TZNAME:CDT
DTSTART:20260308T080000
END:DAYLIGHT
BEGIN:STANDARD
TZOFFSETFROM:-0500
TZOFFSETTO:-0600
TZNAME:CST
DTSTART:20261101T070000
END:STANDARD
END:VTIMEZONE
BEGIN:VEVENT
DTSTART;VALUE=DATE:20251026
DTEND;VALUE=DATE:20251027
DTSTAMP:20260421T231729
CREATED:20250717T034932Z
LAST-MODIFIED:20250717T034932Z
UID:10000896-1761436800-1761523199@mccks.edu
SUMMARY:TO Y-Term: Last day to drop without a transcript entry
DESCRIPTION:Last day to drop without a transcript entry and receive 75% refund for Y-Term
URL:https://mccks.edu/event/to-y-term-last-day-to-drop-without-a-transcript-entry/
LOCATION:KS
END:VEVENT
BEGIN:VEVENT
DTSTART;TZID=America/Chicago:20251026T160000
DTEND;TZID=America/Chicago:20251026T200000
DTSTAMP:20260421T231729
CREATED:20250911T151514Z
LAST-MODIFIED:20250911T151514Z
UID:10000991-1761494400-1761508800@mccks.edu
SUMMARY:Nebraska/Iowa Alumni Connection Event
DESCRIPTION:Calling all MCC alumni and families in Eastern Nebraska and Western Iowa!  CONNECT WITH YOUR ALMA MATER! \n\nJoin us for a special afternoon connecting with fellow Manhattan Christian College alums and families!  \n \nYou’re invited to an alumni connection event in Omaha\, where you can reconnect with old friends and make new ones. This is a great opportunity to expand your network\, share memories\, and learn what’s happening at your alma mater. \nEnjoy complimentary desserts and drinks while you socialize. We’ll also be sharing some fascinating and fun facts about MCC that you might not know! Come for the treats\, stay for the camaraderie\, and leave with new connections. \nWHEN: Sunday\, October 26              4:00 PM \nWHERE: KINGSWAY CHRISTIAN CHURCH                1106 S 139th St                Omaha\, NE 68144 \n \n Register HERE!
URL:https://mccks.edu/event/nebraska-iowa-alumni-connection-event/
LOCATION:KS
END:VEVENT
END:VCALENDAR