BEGIN:VCALENDAR
VERSION:2.0
PRODID:-//Manhattan Christian College - ECPv6.15.17.1//NONSGML v1.0//EN
CALSCALE:GREGORIAN
METHOD:PUBLISH
X-ORIGINAL-URL:https://mccks.edu
X-WR-CALDESC:Events for Manhattan Christian College
REFRESH-INTERVAL;VALUE=DURATION:PT1H
X-Robots-Tag:noindex
X-PUBLISHED-TTL:PT1H
BEGIN:VTIMEZONE
TZID:America/Chicago
BEGIN:DAYLIGHT
TZOFFSETFROM:-0600
TZOFFSETTO:-0500
TZNAME:CDT
DTSTART:20250309T080000
END:DAYLIGHT
BEGIN:STANDARD
TZOFFSETFROM:-0500
TZOFFSETTO:-0600
TZNAME:CST
DTSTART:20251102T070000
END:STANDARD
BEGIN:DAYLIGHT
TZOFFSETFROM:-0600
TZOFFSETTO:-0500
TZNAME:CDT
DTSTART:20260308T080000
END:DAYLIGHT
BEGIN:STANDARD
TZOFFSETFROM:-0500
TZOFFSETTO:-0600
TZNAME:CST
DTSTART:20261101T070000
END:STANDARD
BEGIN:DAYLIGHT
TZOFFSETFROM:-0600
TZOFFSETTO:-0500
TZNAME:CDT
DTSTART:20270314T080000
END:DAYLIGHT
BEGIN:STANDARD
TZOFFSETFROM:-0500
TZOFFSETTO:-0600
TZNAME:CST
DTSTART:20271107T070000
END:STANDARD
END:VTIMEZONE
BEGIN:VEVENT
DTSTART;TZID=America/Chicago:20260509T100000
DTEND;TZID=America/Chicago:20260509T113000
DTSTAMP:20260421T005011
CREATED:20250717T034941Z
LAST-MODIFIED:20260421T034638Z
UID:10000946-1778320800-1778326200@mccks.edu
SUMMARY:MCC Commencement Ceremony
DESCRIPTION:COMMENCEMENT \nA. DATE: Saturday\, May 9\, 2026 \n \nB. TIME: 10:00 a.m. \n \nC. PLACE: Howie’s Activity Center at Manhattan Christian College\, 14th and Laramie St. \n \nD. GUESTS: Limited tickets are available. Up to ten (10) tickets will be available for each graduate for guests. Guests must have a ticket for admittance. Tickets should be picked up in the Academic Office the week of April 13th-17th. Contact Allie Hammack in the Academic Office for additional tickets. Extra tickets can be requested on a first-come\, first-served basis and are based on space within the gym. You may stop by the academic office to request a spot on the “extra ticket” waitlist. \n \nE. PARKING: Parking is available in MCC parking lots north of Howie’s Activity Center\, accessible from Laramie Street\, and south of Howie’s Activity Center\, accessible from 14th Street. Street parking is also available on Laramie Street and Fairchild Avenue. \n \nREHEARSAL & CLASS PHOTO COMPOSITE \nA. Commencement Participants report for rehearsal at 8:30 a.m. in Howie’s Activity Center. Rehearsal will begin with the group picture promptly at 8:35 a.m. Any latecomers will be left out of the group photo. \nACCOMMODATIONS \nA. A block of hotel rooms is available to reserve at a discounted rate at the Holiday Inn At The Campus (1641 Anderson Avenue. Manhattan KS 66502\, www.holidayinn.com/universityks).   \nB. GROUP BLOCK INFORMATION: \nGroup Name: MCC GraduationCheck-In Date: Friday\, May 8\, 2026 any time after 3:00 PMCheck-Out Date: Monday\, May 11\, 2026 by 12:00 PM NoonCut-Off Date: Wednesday\, April 8\, 2026Room Rate: $119.95/nightBreakfast included: No \nThe reservations can be made in any of the methods listed below:– Call Hotel directly at (785) 539-7531– Call Holiday Inn at (888) HolidayDirect Link: MCC Graduation – Holiday Inn at the Campus (To use the direct link\, copy and paste to your preferred browser. Your discounted rate and dates will populate automatically). \nFor more information and assistance with commencement\, contact Allie Hammack or Teri Awbrey in the Academic Office by email: academics@mccks.edu or 785-539-3571\, ext. 320.
URL:https://mccks.edu/event/mcc-commencement/
LOCATION:KS
END:VEVENT
BEGIN:VEVENT
DTSTART;VALUE=DATE:20260511
DTEND;VALUE=DATE:20260516
DTSTAMP:20260421T005011
CREATED:20250717T034941Z
LAST-MODIFIED:20260421T034640Z
UID:10000947-1778457600-1778889599@mccks.edu
SUMMARY:On- Campus: Final Exams
DESCRIPTION:
URL:https://mccks.edu/event/on-campus-final-exams-2/
LOCATION:KS
END:VEVENT
BEGIN:VEVENT
DTSTART;VALUE=DATE:20260515
DTEND;VALUE=DATE:20260516
DTSTAMP:20260421T005011
CREATED:20250717T034941Z
LAST-MODIFIED:20260421T034639Z
UID:10000948-1778803200-1778889599@mccks.edu
SUMMARY:On- Campus Term Ends
DESCRIPTION:
URL:https://mccks.edu/event/on-campus-term-ends-2/
LOCATION:KS
END:VEVENT
BEGIN:VEVENT
DTSTART;VALUE=DATE:20260516
DTEND;VALUE=DATE:20260526
DTSTAMP:20260421T005011
CREATED:20251031T032156Z
LAST-MODIFIED:20260421T034639Z
UID:10000996-1778889600-1779753599@mccks.edu
SUMMARY:Philippines Mission Trip
DESCRIPTION:
URL:https://mccks.edu/event/philippines-mission-trip/
LOCATION:KS
END:VEVENT
BEGIN:VEVENT
DTSTART;VALUE=DATE:20260517
DTEND;VALUE=DATE:20260518
DTSTAMP:20260421T005011
CREATED:20250717T034941Z
LAST-MODIFIED:20260421T034658Z
UID:10000949-1778976000-1779062399@mccks.edu
SUMMARY:TO Y-Term: Classes End
DESCRIPTION:
URL:https://mccks.edu/event/to-y-term-classes-end-2/
LOCATION:KS
END:VEVENT
BEGIN:VEVENT
DTSTART;TZID=America/Chicago:20260604T190000
DTEND;TZID=America/Chicago:20260604T200000
DTSTAMP:20260421T005011
CREATED:20250717T034940Z
LAST-MODIFIED:20260421T034658Z
UID:10000944-1780599600-1780603200@mccks.edu
SUMMARY:Estate Planning Webinar
DESCRIPTION:Estate Planning Webinar\nSIGN UP FOR AN EDUCATIONAL WEBINAR  \nParticipating in one of the webinars listed below will satisfy the educational requirement needed to start the process of creating or updating a trust with Financial Planning Ministry. \nSign up for one of our Living Trust Webinars: \nSeptember 9\, 2025 \nDecember 15\, 2025 \nMarch 14\, 2026 \nJune 4\, 2026 \nHAVING A PLAN IN PLACE MAKES SENSE \nAlmost every adult can benefit from having a will or trust\, regardless of a person’s financial situation or season of life. It is never too early (or too late) to make a plan that will ensure your wishes are carried out and your loved ones are well cared for after you are gone. Perhaps most importantly\, your plan can be a way to honor God with the assets He has given you to make a lasting impact for eternity. \nEvery year\, 6 out of 10 Americans pass away without ever having prepared a valid will or trust. MCC wants to help change this statistic. \nIT IS A SIMPLE PROCESS \nMCC has taken steps to make it simple for you to create a trust at no out-of-pocket costs.  MCC partners with Financial Planning Ministry (FPM)\, a nonprofit organization that provides estate planning services including the drawing up of revocable living trusts. FPM has successfully assisted more than 40\,000 families of the Christian community for 40 years\, including many MCC staff and supporters. There is no cost to you because the college pays for the service on your behalf. FPM simply asks you to consider leaving a modest percentage gift from your estate to one of their ministry partners like MCC. This donation will not be distributed from your estate until after you (and\, if applicable\, your spouse’s) passing. \nUNSURE IF A WILL OR TRUST IS BEST FOR YOU? \nFor some\, a trust makes sense. For others\, a will may be the best choice. If you are unsure which type of document you need\, the Living Trust Educational Webinar can help you decide. \nWe can’t predict the future\, but we can plan for it. Financial Planning Ministry (FPM) takes the mystery out of estate planning\, guiding you and your family through a straightforward process allowing you to design a legacy plan that protects and blesses your family while honoring God. \nNO OUT-OF-POCKET EXPENSE FOR YOUR DOCUMENTS \nWhether you have an estate plan in place or not\, we invite you to take a fresh look at the facts and let us help you address your planning priorities and challenges. After attending the webinar\, you will have the opportunity to schedule a follow-up appointment.  Then to request that FPM prepare or update your own estate plan at no out-of-pocket cost. Don’t miss this fantastic opportunity! \nFind out more about Financial Planning Ministry at their website www.fpm.org. \nREGISTER TODAY\nUse the link corresponding to the webinar day that is most convenient for you to attend or contact Jolene Rupe\, via phone (785-539-3571) or email (jrupe@mccks.edu).
URL:https://mccks.edu/event/estate-planning-webinar-4/
LOCATION:KS
END:VEVENT
BEGIN:VEVENT
DTSTART;VALUE=DATE:20260824
DTEND;VALUE=DATE:20260825
DTSTAMP:20260421T005011
CREATED:20260421T024358Z
LAST-MODIFIED:20260421T034659Z
UID:10001236-1787529600-1787615999@mccks.edu
SUMMARY:On Campus: Classes Begin
DESCRIPTION:
URL:https://mccks.edu/event/on-campus-classes-begin-11/
LOCATION:KS
END:VEVENT
BEGIN:VEVENT
DTSTART;VALUE=DATE:20260824
DTEND;VALUE=DATE:20260825
DTSTAMP:20260421T005011
CREATED:20260421T024359Z
LAST-MODIFIED:20260421T034659Z
UID:10001237-1787529600-1787615999@mccks.edu
SUMMARY:TO X-Term (8 week) Classes Begin
DESCRIPTION:Last day to fully withdraw and receive 100% for X-Term
URL:https://mccks.edu/event/to-x-term-8-week-classes-begin/
LOCATION:KS
END:VEVENT
BEGIN:VEVENT
DTSTART;VALUE=DATE:20260907
DTEND;VALUE=DATE:20260908
DTSTAMP:20260421T005011
CREATED:20260421T024359Z
LAST-MODIFIED:20260421T034700Z
UID:10001238-1788739200-1788825599@mccks.edu
SUMMARY:Labor Day: No Classes- MCC Closed
DESCRIPTION:
URL:https://mccks.edu/event/labor-day-no-classes-mcc-closed-2/
LOCATION:KS
END:VEVENT
BEGIN:VEVENT
DTSTART;VALUE=DATE:20260912
DTEND;VALUE=DATE:20260913
DTSTAMP:20260421T005011
CREATED:20250717T034942Z
LAST-MODIFIED:20260319T224645Z
UID:10000951-1789171200-1789257599@mccks.edu
SUMMARY:MCC's 98th Birthday
DESCRIPTION:https://mccks.edu/about-mcc/mcc-history/
URL:https://mccks.edu/event/mccs-98th-birthday-2/
LOCATION:Manhattan Christian College\, 1415 Anderson Ave\, Manhattan\, KS\, United States
GEO:39.185969;-96.57853
X-APPLE-STRUCTURED-LOCATION;VALUE=URI;X-ADDRESS=Manhattan Christian College 1415 Anderson Ave Manhattan KS United States;X-APPLE-RADIUS=500;X-TITLE=1415 Anderson Ave:geo:-96.57853,39.185969
END:VEVENT
BEGIN:VEVENT
DTSTART;VALUE=DATE:20260912
DTEND;VALUE=DATE:20260913
DTSTAMP:20260421T005011
CREATED:20260421T024400Z
LAST-MODIFIED:20260421T034700Z
UID:10001239-1789171200-1789257599@mccks.edu
SUMMARY:MCC's 99th Birthday
DESCRIPTION:
URL:https://mccks.edu/event/mccs-99th-birthday/
LOCATION:KS
END:VEVENT
BEGIN:VEVENT
DTSTART;VALUE=DATE:20260917
DTEND;VALUE=DATE:20260918
DTSTAMP:20260421T005011
CREATED:20250717T034942Z
LAST-MODIFIED:20260421T034701Z
UID:10000952-1789603200-1789689599@mccks.edu
SUMMARY:Constitution Day\, USA
DESCRIPTION:https://www.constitutionday.com/
URL:https://mccks.edu/event/constitution-day-usa-2/
LOCATION:KS
END:VEVENT
BEGIN:VEVENT
DTSTART;VALUE=DATE:20260918
DTEND;VALUE=DATE:20260919
DTSTAMP:20260421T005011
CREATED:20260421T024400Z
LAST-MODIFIED:20260421T034701Z
UID:10001240-1789689600-1789775999@mccks.edu
SUMMARY:Last day to withdraw without a transcript entry
DESCRIPTION:
URL:https://mccks.edu/event/last-day-to-withdraw-without-a-transcript-entry/
LOCATION:KS
END:VEVENT
BEGIN:VEVENT
DTSTART;TZID=America/Chicago:20260924T073000
DTEND;TZID=America/Chicago:20260924T083000
DTSTAMP:20260421T005011
CREATED:20260421T024402Z
LAST-MODIFIED:20260421T034702Z
UID:10001241-1790235000-1790238600@mccks.edu
SUMMARY:24th Annual Leadership Breakfast
DESCRIPTION:
URL:https://mccks.edu/event/24th-annual-leadership-breakfast/
LOCATION:KS
END:VEVENT
BEGIN:VEVENT
DTSTART;VALUE=DATE:20260925
DTEND;VALUE=DATE:20260926
DTSTAMP:20260421T005011
CREATED:20260421T024403Z
LAST-MODIFIED:20260421T034640Z
UID:10001243-1790294400-1790380799@mccks.edu
SUMMARY:TO X-Term- Last day to withdraw with transcript entry
DESCRIPTION:
URL:https://mccks.edu/event/to-x-term-last-day-to-withdraw-with-transcript-entry-11/
LOCATION:KS
END:VEVENT
BEGIN:VEVENT
DTSTART;TZID=America/Chicago:20260925T090000
DTEND;TZID=America/Chicago:20260925T150000
DTSTAMP:20260421T005011
CREATED:20260421T024402Z
LAST-MODIFIED:20260421T034702Z
UID:10001242-1790326800-1790348400@mccks.edu
SUMMARY:27th Annual MCC Golf Classic
DESCRIPTION:
URL:https://mccks.edu/event/27th-annual-mcc-golf-classic/
LOCATION:KS
END:VEVENT
BEGIN:VEVENT
DTSTART;VALUE=DATE:20261005
DTEND;VALUE=DATE:20261007
DTSTAMP:20260421T005011
CREATED:20251031T032157Z
LAST-MODIFIED:20260421T034641Z
UID:10000997-1791158400-1791331199@mccks.edu
SUMMARY:ABHE President's Meeting
DESCRIPTION:
URL:https://mccks.edu/event/abhe-presidents-meeting/
LOCATION:KS
END:VEVENT
BEGIN:VEVENT
DTSTART;VALUE=DATE:20261012
DTEND;VALUE=DATE:20261013
DTSTAMP:20260421T005011
CREATED:20250717T034942Z
LAST-MODIFIED:20260319T224646Z
UID:10000953-1791763200-1791849599@mccks.edu
SUMMARY:MCC 99th Anniversary
DESCRIPTION:
URL:https://mccks.edu/event/mcc-99th-anniversary/
LOCATION:KS
END:VEVENT
BEGIN:VEVENT
DTSTART;VALUE=DATE:20261018
DTEND;VALUE=DATE:20261019
DTSTAMP:20260421T005011
CREATED:20260421T024404Z
LAST-MODIFIED:20260421T034642Z
UID:10001245-1792281600-1792367999@mccks.edu
SUMMARY:TO X-Term Classes End
DESCRIPTION:
URL:https://mccks.edu/event/to-x-term-classes-end-11/
LOCATION:KS
END:VEVENT
BEGIN:VEVENT
DTSTART;VALUE=DATE:20261019
DTEND;VALUE=DATE:20261020
DTSTAMP:20260421T005011
CREATED:20260421T024403Z
LAST-MODIFIED:20260421T034641Z
UID:10001244-1792368000-1792454399@mccks.edu
SUMMARY:TO-Y Term (8 week) Classes Begin
DESCRIPTION:Last day to fully withdraw and receive 100% for Y-Term
URL:https://mccks.edu/event/to-y-term-8-week-classes-begin/
LOCATION:KS
END:VEVENT
BEGIN:VEVENT
DTSTART;VALUE=DATE:20261102
DTEND;VALUE=DATE:20261103
DTSTAMP:20260421T005011
CREATED:20260421T024404Z
LAST-MODIFIED:20260421T034643Z
UID:10001246-1793577600-1793663999@mccks.edu
SUMMARY:TO enrollment begins for Spring 2027 X-Term (Returning Students)
DESCRIPTION:
URL:https://mccks.edu/event/to-enrollment-begins-for-spring-2027-x-term-returning-students/
LOCATION:KS
END:VEVENT
BEGIN:VEVENT
DTSTART;VALUE=DATE:20261102
DTEND;VALUE=DATE:20261103
DTSTAMP:20260421T005011
CREATED:20260421T024405Z
LAST-MODIFIED:20260421T034642Z
UID:10001247-1793577600-1793663999@mccks.edu
SUMMARY:On-Campus enrollment begins for Spring 2027 Semester (Returning Students)
DESCRIPTION:
URL:https://mccks.edu/event/on-campus-enrollment-begins-for-spring-2027-semester-returning-students/
LOCATION:KS
END:VEVENT
BEGIN:VEVENT
DTSTART;VALUE=DATE:20261113
DTEND;VALUE=DATE:20261114
DTSTAMP:20260421T005011
CREATED:20260421T024405Z
LAST-MODIFIED:20260421T034643Z
UID:10001248-1794528000-1794614399@mccks.edu
SUMMARY:Last day to withdraw with transcript entry
DESCRIPTION:
URL:https://mccks.edu/event/last-day-to-withdraw-with-transcript-entry-3/
LOCATION:KS
END:VEVENT
BEGIN:VEVENT
DTSTART;VALUE=DATE:20261116
DTEND;VALUE=DATE:20261117
DTSTAMP:20260421T005011
CREATED:20260421T024406Z
LAST-MODIFIED:20260421T034644Z
UID:10001249-1794787200-1794873599@mccks.edu
SUMMARY:Graduation Petitions due for December Conferral
DESCRIPTION:
URL:https://mccks.edu/event/graduation-petitions-due-for-december-conferral-2/
LOCATION:KS
END:VEVENT
BEGIN:VEVENT
DTSTART;VALUE=DATE:20261116
DTEND;VALUE=DATE:20261117
DTSTAMP:20260421T005011
CREATED:20260421T024406Z
LAST-MODIFIED:20260421T034645Z
UID:10001250-1794787200-1794873599@mccks.edu
SUMMARY:TO Graduation Petitions due for December Conferral
DESCRIPTION:
URL:https://mccks.edu/event/to-graduation-petitions-due-for-december-conferral/
LOCATION:KS
END:VEVENT
BEGIN:VEVENT
DTSTART;VALUE=DATE:20261120
DTEND;VALUE=DATE:20261121
DTSTAMP:20260421T005011
CREATED:20260421T024407Z
LAST-MODIFIED:20260421T034645Z
UID:10001251-1795132800-1795219199@mccks.edu
SUMMARY:Y-Term- Last day to withdraw with transcript entry
DESCRIPTION:
URL:https://mccks.edu/event/y-term-last-day-to-withdraw-with-transcript-entry/
LOCATION:KS
END:VEVENT
BEGIN:VEVENT
DTSTART;VALUE=DATE:20261123
DTEND;VALUE=DATE:20261128
DTSTAMP:20260421T005011
CREATED:20260421T024407Z
LAST-MODIFIED:20260421T034646Z
UID:10001252-1795392000-1795823999@mccks.edu
SUMMARY:Thanksgiving Break: No Classes
DESCRIPTION:
URL:https://mccks.edu/event/thanksgiving-break-no-classes-2/
LOCATION:KS
END:VEVENT
BEGIN:VEVENT
DTSTART;VALUE=DATE:20261126
DTEND;VALUE=DATE:20261128
DTSTAMP:20260421T005011
CREATED:20260421T024408Z
LAST-MODIFIED:20260421T034646Z
UID:10001253-1795651200-1795823999@mccks.edu
SUMMARY:Thanksgiving Break: MCC Closed
DESCRIPTION:
URL:https://mccks.edu/event/thanksgiving-break-mcc-closed-2/
LOCATION:KS
END:VEVENT
BEGIN:VEVENT
DTSTART;VALUE=DATE:20261214
DTEND;VALUE=DATE:20261218
DTSTAMP:20260421T005011
CREATED:20260421T024408Z
LAST-MODIFIED:20260421T034647Z
UID:10001254-1797206400-1797551999@mccks.edu
SUMMARY:On Campus: Final Exams
DESCRIPTION:
URL:https://mccks.edu/event/on-campus-final-exams-4/
LOCATION:KS
END:VEVENT
BEGIN:VEVENT
DTSTART;VALUE=DATE:20261218
DTEND;VALUE=DATE:20261219
DTSTAMP:20260421T005011
CREATED:20260421T024409Z
LAST-MODIFIED:20260421T034647Z
UID:10001255-1797552000-1797638399@mccks.edu
SUMMARY:On Campus Term Ends
DESCRIPTION:
URL:https://mccks.edu/event/on-campus-term-ends-6/
LOCATION:KS
END:VEVENT
END:VCALENDAR