BEGIN:VCALENDAR
VERSION:2.0
PRODID:-//Manhattan Christian College - ECPv6.15.17.1//NONSGML v1.0//EN
CALSCALE:GREGORIAN
METHOD:PUBLISH
X-WR-CALNAME:Manhattan Christian College
X-ORIGINAL-URL:https://mccks.edu
X-WR-CALDESC:Events for Manhattan Christian College
REFRESH-INTERVAL;VALUE=DURATION:PT1H
X-Robots-Tag:noindex
X-PUBLISHED-TTL:PT1H
BEGIN:VTIMEZONE
TZID:America/Chicago
BEGIN:DAYLIGHT
TZOFFSETFROM:-0600
TZOFFSETTO:-0500
TZNAME:CDT
DTSTART:20240310T080000
END:DAYLIGHT
BEGIN:STANDARD
TZOFFSETFROM:-0500
TZOFFSETTO:-0600
TZNAME:CST
DTSTART:20241103T070000
END:STANDARD
BEGIN:DAYLIGHT
TZOFFSETFROM:-0600
TZOFFSETTO:-0500
TZNAME:CDT
DTSTART:20250309T080000
END:DAYLIGHT
BEGIN:STANDARD
TZOFFSETFROM:-0500
TZOFFSETTO:-0600
TZNAME:CST
DTSTART:20251102T070000
END:STANDARD
BEGIN:DAYLIGHT
TZOFFSETFROM:-0600
TZOFFSETTO:-0500
TZNAME:CDT
DTSTART:20260308T080000
END:DAYLIGHT
BEGIN:STANDARD
TZOFFSETFROM:-0500
TZOFFSETTO:-0600
TZNAME:CST
DTSTART:20261101T070000
END:STANDARD
END:VTIMEZONE
BEGIN:VEVENT
DTSTART;VALUE=DATE:20251102
DTEND;VALUE=DATE:20251103
DTSTAMP:20260419T130050
CREATED:20250717T034932Z
LAST-MODIFIED:20250717T034932Z
UID:10000898-1762041600-1762127999@mccks.edu
SUMMARY:TO Y-Term: Last day to fully withdraw
DESCRIPTION:Last day to fully withdraw and receive 40% refund for Y-Term
URL:https://mccks.edu/event/to-y-term-last-day-to-fully-withdraw/
END:VEVENT
BEGIN:VEVENT
DTSTART;VALUE=DATE:20251103
DTEND;VALUE=DATE:20251104
DTSTAMP:20260419T130050
CREATED:20250717T034932Z
LAST-MODIFIED:20250717T034932Z
UID:10000899-1762128000-1762214399@mccks.edu
SUMMARY:TO Enrollment begins for Spring 2026 (Returning students)
DESCRIPTION:
URL:https://mccks.edu/event/to-enrollment-begins-for-spring-2026-returning-students/
END:VEVENT
BEGIN:VEVENT
DTSTART;VALUE=DATE:20251103
DTEND;VALUE=DATE:20251104
DTSTAMP:20260419T130050
CREATED:20250717T034932Z
LAST-MODIFIED:20250717T034932Z
UID:10000900-1762128000-1762214399@mccks.edu
SUMMARY:Enrollment begins for Spring 2026 (Returning Students)
DESCRIPTION:
URL:https://mccks.edu/event/enrollment-begins-for-spring-2026-returning-students/
END:VEVENT
BEGIN:VEVENT
DTSTART;TZID=America/Chicago:20251106T100000
DTEND;TZID=America/Chicago:20251106T140000
DTSTAMP:20260419T130050
CREATED:20250717T034932Z
LAST-MODIFIED:20251106T192204Z
UID:10000901-1762423200-1762437600@mccks.edu
SUMMARY:Thunder Thursday
DESCRIPTION:Come experience life at Manhattan Christian College! During this one-day visit\, you’ll tour campus\, attend chapel\, sit in on a class\, enjoy lunch with current students\, and connect directly with professors and the admissions team. \nDonuts and coffee kick off the morning at check-in\, and the day wraps up with personalized support for both students and parents. \nPlus\, every visiting student receives $1\,000 scholarship just for attending! \nClick HERE to register!
URL:https://mccks.edu/event/thunder-thursday-2/
END:VEVENT
BEGIN:VEVENT
DTSTART;TZID=America/Chicago:20251107T080000
DTEND;TZID=America/Chicago:20251107T150000
DTSTAMP:20260419T130050
CREATED:20250717T034933Z
LAST-MODIFIED:20251107T202204Z
UID:10000902-1762502400-1762527600@mccks.edu
SUMMARY:Board of Trustee Meeting
DESCRIPTION:
URL:https://mccks.edu/event/board-of-trustee-meeting-2/
END:VEVENT
END:VCALENDAR