BEGIN:VCALENDAR
VERSION:2.0
PRODID:-//Manhattan Christian College - ECPv6.15.17.1//NONSGML v1.0//EN
CALSCALE:GREGORIAN
METHOD:PUBLISH
X-ORIGINAL-URL:https://mccks.edu
X-WR-CALDESC:Events for Manhattan Christian College
REFRESH-INTERVAL;VALUE=DURATION:PT1H
X-Robots-Tag:noindex
X-PUBLISHED-TTL:PT1H
BEGIN:VTIMEZONE
TZID:America/Chicago
BEGIN:DAYLIGHT
TZOFFSETFROM:-0600
TZOFFSETTO:-0500
TZNAME:CDT
DTSTART:20240310T080000
END:DAYLIGHT
BEGIN:STANDARD
TZOFFSETFROM:-0500
TZOFFSETTO:-0600
TZNAME:CST
DTSTART:20241103T070000
END:STANDARD
BEGIN:DAYLIGHT
TZOFFSETFROM:-0600
TZOFFSETTO:-0500
TZNAME:CDT
DTSTART:20250309T080000
END:DAYLIGHT
BEGIN:STANDARD
TZOFFSETFROM:-0500
TZOFFSETTO:-0600
TZNAME:CST
DTSTART:20251102T070000
END:STANDARD
BEGIN:DAYLIGHT
TZOFFSETFROM:-0600
TZOFFSETTO:-0500
TZNAME:CDT
DTSTART:20260308T080000
END:DAYLIGHT
BEGIN:STANDARD
TZOFFSETFROM:-0500
TZOFFSETTO:-0600
TZNAME:CST
DTSTART:20261101T070000
END:STANDARD
END:VTIMEZONE
BEGIN:VEVENT
DTSTART;TZID=America/Chicago:20251119T070000
DTEND;TZID=America/Chicago:20251122T210000
DTSTAMP:20260419T192935
CREATED:20250724T221543Z
LAST-MODIFIED:20251123T025437Z
UID:10000957-1763535600-1763845200@mccks.edu
SUMMARY:2025 Church/College-Wide Registration (CCW)
DESCRIPTION:
URL:https://mccks.edu/event/2025-church-college-wide-registration-ccw/
LOCATION:2000 Convention Center Concourse College Park\, 73 Georgia Ave\, Atlanta\, GA\, United States
GEO:33.736809;-84.385565
X-APPLE-STRUCTURED-LOCATION;VALUE=URI;X-ADDRESS=2000 Convention Center Concourse College Park 73 Georgia Ave Atlanta GA United States;X-APPLE-RADIUS=500;X-TITLE=73 Georgia Ave:geo:-84.385565,33.736809
END:VEVENT
END:VCALENDAR