BEGIN:VCALENDAR
VERSION:2.0
PRODID:-//Manhattan Christian College - ECPv6.15.17.1//NONSGML v1.0//EN
CALSCALE:GREGORIAN
METHOD:PUBLISH
X-WR-CALNAME:Manhattan Christian College
X-ORIGINAL-URL:https://mccks.edu
X-WR-CALDESC:Events for Manhattan Christian College
REFRESH-INTERVAL;VALUE=DURATION:PT1H
X-Robots-Tag:noindex
X-PUBLISHED-TTL:PT1H
BEGIN:VTIMEZONE
TZID:America/Chicago
BEGIN:DAYLIGHT
TZOFFSETFROM:-0600
TZOFFSETTO:-0500
TZNAME:CDT
DTSTART:20240310T080000
END:DAYLIGHT
BEGIN:STANDARD
TZOFFSETFROM:-0500
TZOFFSETTO:-0600
TZNAME:CST
DTSTART:20241103T070000
END:STANDARD
BEGIN:DAYLIGHT
TZOFFSETFROM:-0600
TZOFFSETTO:-0500
TZNAME:CDT
DTSTART:20250309T080000
END:DAYLIGHT
BEGIN:STANDARD
TZOFFSETFROM:-0500
TZOFFSETTO:-0600
TZNAME:CST
DTSTART:20251102T070000
END:STANDARD
BEGIN:DAYLIGHT
TZOFFSETFROM:-0600
TZOFFSETTO:-0500
TZNAME:CDT
DTSTART:20260308T080000
END:DAYLIGHT
BEGIN:STANDARD
TZOFFSETFROM:-0500
TZOFFSETTO:-0600
TZNAME:CST
DTSTART:20261101T070000
END:STANDARD
BEGIN:DAYLIGHT
TZOFFSETFROM:-0600
TZOFFSETTO:-0500
TZNAME:CDT
DTSTART:20270314T080000
END:DAYLIGHT
BEGIN:STANDARD
TZOFFSETFROM:-0500
TZOFFSETTO:-0600
TZNAME:CST
DTSTART:20271107T070000
END:STANDARD
END:VTIMEZONE
BEGIN:VEVENT
DTSTART;VALUE=DATE:20251221
DTEND;VALUE=DATE:20251222
DTSTAMP:20260420T135619
CREATED:20250717T034935Z
LAST-MODIFIED:20251220T224603Z
UID:10000912-1766275200-1766361599@mccks.edu
SUMMARY:TO Y-Term: Classes End
DESCRIPTION:
URL:https://mccks.edu/event/to-y-term-classes-end/
END:VEVENT
BEGIN:VEVENT
DTSTART;TZID=America/Chicago:20251224T120000
DTEND;TZID=America/Chicago:20251224T170000
DTSTAMP:20260420T135619
CREATED:20250717T034935Z
LAST-MODIFIED:20251224T223046Z
UID:10000913-1766577600-1766595600@mccks.edu
SUMMARY:MCC Closed
DESCRIPTION:
URL:https://mccks.edu/event/mcc-closed/
END:VEVENT
BEGIN:VEVENT
DTSTART;VALUE=DATE:20251225
DTEND;VALUE=DATE:20260103
DTSTAMP:20260420T135619
CREATED:20250717T034935Z
LAST-MODIFIED:20260102T225545Z
UID:10000914-1766620800-1767398399@mccks.edu
SUMMARY:MCC Closed
DESCRIPTION:
URL:https://mccks.edu/event/mcc-closed-2/
END:VEVENT
END:VCALENDAR