BEGIN:VCALENDAR
VERSION:2.0
PRODID:-//Manhattan Christian College - ECPv6.15.17.1//NONSGML v1.0//EN
CALSCALE:GREGORIAN
METHOD:PUBLISH
X-WR-CALNAME:Manhattan Christian College
X-ORIGINAL-URL:https://mccks.edu
X-WR-CALDESC:Events for Manhattan Christian College
REFRESH-INTERVAL;VALUE=DURATION:PT1H
X-Robots-Tag:noindex
X-PUBLISHED-TTL:PT1H
BEGIN:VTIMEZONE
TZID:America/Chicago
BEGIN:DAYLIGHT
TZOFFSETFROM:-0600
TZOFFSETTO:-0500
TZNAME:CDT
DTSTART:20260308T080000
END:DAYLIGHT
BEGIN:STANDARD
TZOFFSETFROM:-0500
TZOFFSETTO:-0600
TZNAME:CST
DTSTART:20261101T070000
END:STANDARD
BEGIN:DAYLIGHT
TZOFFSETFROM:-0600
TZOFFSETTO:-0500
TZNAME:CDT
DTSTART:20270314T080000
END:DAYLIGHT
BEGIN:STANDARD
TZOFFSETFROM:-0500
TZOFFSETTO:-0600
TZNAME:CST
DTSTART:20271107T070000
END:STANDARD
BEGIN:DAYLIGHT
TZOFFSETFROM:-0600
TZOFFSETTO:-0500
TZNAME:CDT
DTSTART:20280312T080000
END:DAYLIGHT
BEGIN:STANDARD
TZOFFSETFROM:-0500
TZOFFSETTO:-0600
TZNAME:CST
DTSTART:20281105T070000
END:STANDARD
END:VTIMEZONE
BEGIN:VEVENT
DTSTART;VALUE=DATE:20270118
DTEND;VALUE=DATE:20270119
DTSTAMP:20260425T054915
CREATED:20260421T024412Z
LAST-MODIFIED:20260424T224701Z
UID:10001260-1800230400-1800316799@mccks.edu
SUMMARY:Martin Luther King Jr Day- MCC Closed
DESCRIPTION:
URL:https://mccks.edu/event/martin-luther-king-jr-day-mcc-closed-10/
END:VEVENT
BEGIN:VEVENT
DTSTART;VALUE=DATE:20270119
DTEND;VALUE=DATE:20270120
DTSTAMP:20260425T054915
CREATED:20260421T024412Z
LAST-MODIFIED:20260424T224702Z
UID:10001259-1800316800-1800403199@mccks.edu
SUMMARY:TO X-Term (8 week) Classes begin
DESCRIPTION:Last day to fully withdraw and receive 100% refund for X-Term
URL:https://mccks.edu/event/to-x-term-8-week-classes-begin-2/
END:VEVENT
BEGIN:VEVENT
DTSTART;VALUE=DATE:20270119
DTEND;VALUE=DATE:20270120
DTSTAMP:20260425T054915
CREATED:20260421T024413Z
LAST-MODIFIED:20260424T224701Z
UID:10001261-1800316800-1800403199@mccks.edu
SUMMARY:On Campus: Classes Begin
DESCRIPTION:
URL:https://mccks.edu/event/on-campus-classes-begin-12/
END:VEVENT
BEGIN:VEVENT
DTSTART;VALUE=DATE:20270122
DTEND;VALUE=DATE:20270123
DTSTAMP:20260425T054915
CREATED:20260421T024413Z
LAST-MODIFIED:20260424T224702Z
UID:10001262-1800576000-1800662399@mccks.edu
SUMMARY:X-Term- Last day to drop without a transcript entry
DESCRIPTION:Last to to drop and receive 75% refund for X-Term
URL:https://mccks.edu/event/x-term-last-day-to-drop-without-a-transcript-entry/
END:VEVENT
END:VCALENDAR